BEGIN:VCALENDAR
VERSION:2.0
PRODID:-//jEvents 2.0 for Joomla//EN
CALSCALE:GREGORIAN
METHOD:PUBLISH
BEGIN:VTIMEZONE
TZID:Europe/Zurich
BEGIN:STANDARD
DTSTART:20250122T183000
RDATE:20250330T030000
TZOFFSETFROM:+0200
TZOFFSETTO:+0100
TZNAME:Europe/Zurich CET
END:STANDARD
BEGIN:STANDARD
DTSTART:20251026T020000
RDATE:20260329T030000
TZOFFSETFROM:+0200
TZOFFSETTO:+0100
TZNAME:Europe/Zurich CET
END:STANDARD
BEGIN:STANDARD
DTSTART:20261025T020000
RDATE:20270328T030000
TZOFFSETFROM:+0200
TZOFFSETTO:+0100
TZNAME:Europe/Zurich CET
END:STANDARD
BEGIN:STANDARD
DTSTART:20271031T020000
RDATE:20280326T030000
TZOFFSETFROM:+0200
TZOFFSETTO:+0100
TZNAME:Europe/Zurich CET
END:STANDARD
BEGIN:DAYLIGHT
DTSTART:20250330T030000
RDATE:20251026T020000
TZOFFSETFROM:+0100
TZOFFSETTO:+0200
TZNAME:Europe/Zurich CEST
END:DAYLIGHT
BEGIN:DAYLIGHT
DTSTART:20260329T030000
RDATE:20261025T020000
TZOFFSETFROM:+0100
TZOFFSETTO:+0200
TZNAME:Europe/Zurich CEST
END:DAYLIGHT
BEGIN:DAYLIGHT
DTSTART:20270328T030000
RDATE:20271031T020000
TZOFFSETFROM:+0100
TZOFFSETTO:+0200
TZNAME:Europe/Zurich CEST
END:DAYLIGHT
END:VTIMEZONE
BEGIN:VEVENT
UID:e1625fcfe8edec2ad8802f1f9fcdf080
CATEGORIES:Clubkalender, Atelierreservation
CREATED:20241126T195749
SUMMARY:Generalversammlung
LOCATION:Clublokal Fotoclub\, Schachenstrasse 78\, Jona
DESCRIPTION:Liebe ClubmitgliederDie GV findet am Fr, 23. Januar um 19 Uhr im Clublokal 
 statt. Gerne erwarten wir Euch ab 18.30 Uhr zum Apéro. Alle, die noch möcht
 en, treffen sich anschliessend zum Essen in der Pizzeria im gleichen Gebäud
 e.Bitte meldet Euch unter folgendem Link https://nuudel.digitalcourage.de/g
 GqEGcBvN57pKxMS für die GV (mit oder ohne Essen) an oder ab. Der Vorstand f
 reut sich auf zahlreiche Anwesende.Herzliche Grüsse und allen frohe Festtag
 eHelene
X-EXTRAINFO:Datum: Freitag, 23. Januar 2026 um 19:00 Uhr bis 20:00 Uhr\nApéro: 18:30 Uh
 r, Clublokal
DTSTAMP:20260421T111231
DTSTART;TZID=Europe/Zurich:20260123T183000
DTEND;TZID=Europe/Zurich:20260123T220000
SEQUENCE:0
TRANSP:OPAQUE
END:VEVENT
END:VCALENDAR