BEGIN:VCALENDAR
VERSION:2.0
PRODID:-//jEvents 2.0 for Joomla//EN
CALSCALE:GREGORIAN
METHOD:PUBLISH
BEGIN:VTIMEZONE
TZID:Europe/Zurich
BEGIN:STANDARD
DTSTART:20251110T200000
RDATE:20260329T030000
TZOFFSETFROM:+0200
TZOFFSETTO:+0100
TZNAME:Europe/Zurich CET
END:STANDARD
BEGIN:STANDARD
DTSTART:20261025T020000
RDATE:20270328T030000
TZOFFSETFROM:+0200
TZOFFSETTO:+0100
TZNAME:Europe/Zurich CET
END:STANDARD
BEGIN:STANDARD
DTSTART:20271031T020000
RDATE:20280326T030000
TZOFFSETFROM:+0200
TZOFFSETTO:+0100
TZNAME:Europe/Zurich CET
END:STANDARD
BEGIN:DAYLIGHT
DTSTART:20260329T030000
RDATE:20261025T020000
TZOFFSETFROM:+0100
TZOFFSETTO:+0200
TZNAME:Europe/Zurich CEST
END:DAYLIGHT
BEGIN:DAYLIGHT
DTSTART:20270328T030000
RDATE:20271031T020000
TZOFFSETFROM:+0100
TZOFFSETTO:+0200
TZNAME:Europe/Zurich CEST
END:DAYLIGHT
END:VTIMEZONE
BEGIN:VEVENT
UID:3ae2b2fd669075fd3a55faff11cd49d2
CATEGORIES:Clubkalender, Atelierreservation
CREATED:20251118T190756
SUMMARY:Pecha Kucha
DESCRIPTION:"Pecha-Kucha, ist eine Vortragstechnik, bei der zu einem mündlichen Vortrag
  passende Bilder (Folien) an eine Wand projiziert werden. Dabei ist das For
 mat vorgegeben: 20 Bilder (Folien), die jeweils 20 Sekunden eingeblendet we
 rden. Die Gesamtzeit von 6:40 Minuten ist damit auch die maximale Sprechzei
 t und endet damit."
X-EXTRAINFO:Für einen Vortrag von Euch braucht Ihr 20 Bilder, die in 20 Sekunden pro Bi
 ld präsentiert werden. Das Thema eurer Präsentation ist frei, es kann ein s
 pezielles Fotoprojekt sein, ein Reisebericht durch Deine Wohnung, eine glob
 ale Übersicht über dein fotografisches Schaffen, was auch immer. Es gilt ei
 nfach, 20 Bilder 20 Sekunden. Automatisch nach 20 Sekunden wird zum nächste
 n Bild gewechselt. Notfalls mitten im Satz.\n\nDies ist eine ausgezeichnete
  Möglichkeit unkompliziert etwas von deinen Bildern zu zeigen.
DTSTAMP:20260421T170525
DTSTART;TZID=Europe/Zurich:20261111T200000
DTEND;TZID=Europe/Zurich:20261111T220000
SEQUENCE:0
TRANSP:OPAQUE
END:VEVENT
END:VCALENDAR